BEGIN:VCALENDAR
VERSION:2.0
PRODID:-//Little Switzerland &amp; Crystal Ridge Ski Patrol - ECPv6.15.18//NONSGML v1.0//EN
CALSCALE:GREGORIAN
METHOD:PUBLISH
X-ORIGINAL-URL:https://littleswitzskipatrol.org
X-WR-CALDESC:Events for Little Switzerland &amp; Crystal Ridge Ski Patrol
REFRESH-INTERVAL;VALUE=DURATION:PT1H
X-Robots-Tag:noindex
X-PUBLISHED-TTL:PT1H
BEGIN:VTIMEZONE
TZID:America/Chicago
BEGIN:DAYLIGHT
TZOFFSETFROM:-0600
TZOFFSETTO:-0500
TZNAME:CDT
DTSTART:20230312T080000
END:DAYLIGHT
BEGIN:STANDARD
TZOFFSETFROM:-0500
TZOFFSETTO:-0600
TZNAME:CST
DTSTART:20231105T070000
END:STANDARD
BEGIN:DAYLIGHT
TZOFFSETFROM:-0600
TZOFFSETTO:-0500
TZNAME:CDT
DTSTART:20240310T080000
END:DAYLIGHT
BEGIN:STANDARD
TZOFFSETFROM:-0500
TZOFFSETTO:-0600
TZNAME:CST
DTSTART:20241103T070000
END:STANDARD
BEGIN:DAYLIGHT
TZOFFSETFROM:-0600
TZOFFSETTO:-0500
TZNAME:CDT
DTSTART:20250309T080000
END:DAYLIGHT
BEGIN:STANDARD
TZOFFSETFROM:-0500
TZOFFSETTO:-0600
TZNAME:CST
DTSTART:20251102T070000
END:STANDARD
END:VTIMEZONE
BEGIN:VEVENT
DTSTART;TZID=America/Chicago:20240211T080000
DTEND;TZID=America/Chicago:20240211T200000
DTSTAMP:20260420T141754
CREATED:20240202T010148Z
LAST-MODIFIED:20240202T010148Z
UID:2505-1707638400-1707681600@littleswitzskipatrol.org
SUMMARY:South Central Region Women's Clinic
DESCRIPTION:Do you love snow sports\, self-improvement\, personal challenge\, fun\, and meeting fellow female patrollers?  Expand your comfort zone this season by attending the South Central Region Women’s Clinic. You will not be disappointed! The Women’s Clinic is a great opportunity to practice and develop your skills on skis or snowboard with other women in a supportive environment\, without the pressure of a test or evaluation. Not to mention\, the clinics are rewarding and fun!  On-line registration is required in order to attend this event. To complete the process\, click the “Get Tickets” button below\, enter the needed attendee and payment information\, and click the “Pay Now” button to complete the process. \nNote: On-line registration for this event closes on 2/1/24. \nNote: Depending on which track of the clinic attendees will participate in\, they also need to register on the national NSP website for the courses named “Women’s Clinic C- South Central Region Snowsports Enhancement Seminar”\, “Women’s Clinic C- South Central Region Toboggan Enhancement Seminar”\, or both. Instructions for completing this process can be found on this website in the Announcement for this Event. \n  \nLink to Region Event Page: https://nspsouthcentral.org/event/2024-sc-region-womens-clinic/
URL:https://littleswitzskipatrol.org/calendar-item/south-central-region-womens-clinic/
LOCATION:Little Switzerland
CATEGORIES:Region
END:VEVENT
END:VCALENDAR